BEGIN:VCALENDAR
VERSION:2.0
PRODID:-//https://www.cameronstation.org//NONSGML kigkonsult.se iCalcreator 2.41.71//
CALSCALE:GREGORIAN
METHOD:PUBLISH
UID:32373330-3963-4965-b637-343638646439
X-WR-CALNAME:JCal Pro Calendar
X-WR-CALDESC:Your online events calendar
X-WR-TIMEZONE:America/New_York
BEGIN:VTIMEZONE
TZID:America/New_York
TZUNTIL:20271107T060000Z
BEGIN:STANDARD
TZNAME:EST
DTSTART:20251102T020000
TZOFFSETFROM:-0400
TZOFFSETTO:-0500
RDATE:20261101T020000
END:STANDARD
BEGIN:DAYLIGHT
TZNAME:EDT
DTSTART:20260308T020000
TZOFFSETFROM:-0500
TZOFFSETTO:-0400
RDATE:20270314T020000
END:DAYLIGHT
END:VTIMEZONE
BEGIN:VEVENT
UID:20240110T190000EST-91082VG8V7@https://cameronstation.org/
DTSTAMP:20260424T041253Z
CATEGORIES:Board & Committee Meetings
DESCRIPTION:<p>The Communications Committee typically meets the second Wedn
 esday of the month at 7:00 pm\, via virtual conference.&nbsp\;&nbsp\;<stro
 ng>The October meeting has been cancelled. The next meeting will be Wednes
 day\, November 12</strong><strong>\, 2025\, at 7:00 pm.&nbsp\;</strong>Ple
 ase&nbsp\;<a href='our-neighborhood/board-committees/communications-commit
 tee'>click&nbsp\;here</a><a href='our-neighborhood/board-committees/commun
 ications-committee'></a>&nbsp\;for meeting information.</p>
DTSTART;TZID=America/New_York:20251008T190000
DTEND;TZID=America/New_York:20251008T200000
SUMMARY:Communications Committee Meeting - Cancelled
URL:https://www.cameronstation.org/calendar/68-csca-event-calendar/74-commi
 ttee-meetings/7947-communications-committee-meeting
X-ALT-DESC;FMTTYPE=TEXT/HTML:<p>The Communications Committee typically meet
 s the second Wednesday of the month at 7:00 pm\, via virtual conference.&n
 bsp\;&nbsp\;<strong>The October meeting has been cancelled. The next meeti
 ng will be Wednesday\, November 12</strong><strong>\, 2025\, at 7:00 pm.&n
 bsp\;</strong>Please&nbsp\;<a href='our-neighborhood/board-committees/comm
 unications-committee'>click&nbsp\;here</a><a href='our-neighborhood/board-
 committees/communications-committee'></a>&nbsp\;for meeting information.</
 p>
END:VEVENT
END:VCALENDAR
