BEGIN:VCALENDAR
VERSION:2.0
PRODID:-//https://www.cameronstation.org//NONSGML kigkonsult.se iCalcreator 2.41.71//
CALSCALE:GREGORIAN
METHOD:PUBLISH
UID:39353061-3231-4136-b632-336335663263
X-WR-CALNAME:JCal Pro Calendar
X-WR-CALDESC:Your online events calendar
X-WR-TIMEZONE:America/New_York
BEGIN:VTIMEZONE
TZID:America/New_York
TZUNTIL:20271107T060000Z
BEGIN:STANDARD
TZNAME:EST
DTSTART:20251102T020000
TZOFFSETFROM:-0400
TZOFFSETTO:-0500
RDATE:20261101T020000
END:STANDARD
BEGIN:DAYLIGHT
TZNAME:EDT
DTSTART:20260308T020000
TZOFFSETFROM:-0500
TZOFFSETTO:-0400
RDATE:20270314T020000
END:DAYLIGHT
END:VTIMEZONE
BEGIN:VEVENT
UID:20241203T190000UTC-3597nrFPSk@https://cameronstation.org/
DTSTAMP:20260424T202844Z
CATEGORIES:Board & Committee Meetings
DESCRIPTION:<p>The Board of Directors meetings are typically held the last 
 Tuesday of the month at 7:00pm\, via a hybrid virtual conference using Zoo
 m. <strong>The next meeting has been rescheduled to Tuesday\, December 3\,
  2024.</strong> Please <span style='text-decoration: underline\;'>click&nb
 sp\;<a href='https://www.cameronstation.org/our-neighborhood/board-committ
 ees/board-of-directors'>here</a></span>&nbsp\;to obtain meeting details.</
 p>
DTSTART;TZID=America/New_York:20241203T190000
DTEND;TZID=America/New_York:20241203T200000
SUMMARY:Board of Directors Meeting
URL:https://www.cameronstation.org/calendar/68-csca-event-calendar/74-commi
 ttee-meetings/7924-board-of-directors-meeting
X-ALT-DESC;FMTTYPE=TEXT/HTML:<p>The Board of Directors meetings are typical
 ly held the last Tuesday of the month at 7:00pm\, via a hybrid virtual con
 ference using Zoom. <strong>The next meeting has been rescheduled to Tuesd
 ay\, December 3\, 2024.</strong> Please <span style='text-decoration: unde
 rline\;'>click&nbsp\;<a href='https://www.cameronstation.org/our-neighborh
 ood/board-committees/board-of-directors'>here</a></span>&nbsp\;to obtain m
 eeting details.</p>
END:VEVENT
END:VCALENDAR
