BEGIN:VCALENDAR
VERSION:2.0
PRODID:-//https://www.cameronstation.org//NONSGML kigkonsult.se iCalcreator 2.41.71//
CALSCALE:GREGORIAN
METHOD:PUBLISH
UID:39343163-6139-4634-b538-613637643564
X-WR-CALNAME:JCal Pro Calendar
X-WR-CALDESC:Your online events calendar
X-WR-TIMEZONE:America/New_York
BEGIN:VTIMEZONE
TZID:America/New_York
TZUNTIL:20271107T060000Z
BEGIN:STANDARD
TZNAME:EST
DTSTART:20251102T020000
TZOFFSETFROM:-0400
TZOFFSETTO:-0500
RDATE:20261101T020000
END:STANDARD
BEGIN:DAYLIGHT
TZNAME:EDT
DTSTART:20260308T020000
TZOFFSETFROM:-0500
TZOFFSETTO:-0400
RDATE:20270314T020000
END:DAYLIGHT
END:VTIMEZONE
BEGIN:VEVENT
UID:20241120T190000UTC-32575Jddaz@https://cameronstation.org/
DTSTAMP:20260424T223146Z
CATEGORIES:Board & Committee Meetings
DESCRIPTION:<p>The Architectural Review Committee has been rescheduled to T
 uesday\, November 20\, 2024\, at 7:00pm. Please&nbsp\;<span style='text-de
 coration: underline\;'><a href='our-neighborhood/board-committees/architec
 tural-review-committee'>click&nbsp\;here</a></span>&nbsp\;for the meeting 
 information.</p>
DTSTART;TZID=America/New_York:20241120T190000
DTEND;TZID=America/New_York:20241120T200000
SUMMARY:Architectural Review Committee Meeting
URL:https://www.cameronstation.org/calendar/68-csca-event-calendar/74-commi
 ttee-meetings/7737-architectural-review-committee-meeting
X-ALT-DESC;FMTTYPE=TEXT/HTML:<p>The Architectural Review Committee has been
  rescheduled to Tuesday\, November 20\, 2024\, at 7:00pm. Please&nbsp\;<sp
 an style='text-decoration: underline\;'><a href='our-neighborhood/board-co
 mmittees/architectural-review-committee'>click&nbsp\;here</a></span>&nbsp\
 ;for the meeting information.</p>
END:VEVENT
END:VCALENDAR
