BEGIN:VCALENDAR
VERSION:2.0
PRODID:-//https://www.cameronstation.org//NONSGML kigkonsult.se iCalcreator 2.41.71//
CALSCALE:GREGORIAN
METHOD:PUBLISH
UID:39633563-6563-4236-b039-383362313366
X-WR-CALNAME:JCal Pro Calendar
X-WR-CALDESC:Your online events calendar
X-WR-TIMEZONE:America/New_York
BEGIN:VTIMEZONE
TZID:America/New_York
TZUNTIL:20271107T060000Z
BEGIN:STANDARD
TZNAME:EST
DTSTART:20251102T020000
TZOFFSETFROM:-0400
TZOFFSETTO:-0500
RDATE:20261101T020000
END:STANDARD
BEGIN:DAYLIGHT
TZNAME:EDT
DTSTART:20260308T020000
TZOFFSETFROM:-0500
TZOFFSETTO:-0400
RDATE:20270314T020000
END:DAYLIGHT
END:VTIMEZONE
BEGIN:VEVENT
UID:20241023T190000UTC-345274JvhS@https://cameronstation.org/
DTSTAMP:20260425T014731Z
CATEGORIES:Board & Committee Meetings
DESCRIPTION:<p>“Meet the Candidates” night will be held Wednesday\, October
  23\, 2024\, at 7:00&nbsp\;pm.&nbsp\;The meeting will be held at the Camer
 on Club in the Victoria Hebert Great Room\; it will be conducted in a hybr
 id format (Zoom and in-person).&nbsp\;If you are attending via Zoom\,&nbsp
 \;you will need to register for this in advance. <em>Registration link wil
 l be provided accordingly.</em>&nbsp\;</p>\n<p>Reminder: Residents must be
  logged in to the website to view meeting links and other information.&nbs
 p\;</p>
DTSTART;TZID=America/New_York:20241023T190000
DTEND;TZID=America/New_York:20241023T200000
SUMMARY:Meet the Candidates Night
URL:https://www.cameronstation.org/calendar/68-csca-event-calendar/74-commi
 ttee-meetings/7366-meet-the-candidates-night
X-ALT-DESC;FMTTYPE=TEXT/HTML:<p>“Meet the Candidates” night will be held We
 dnesday\, October 23\, 2024\, at 7:00&nbsp\;pm.&nbsp\;The meeting will be 
 held at the Cameron Club in the Victoria Hebert Great Room\; it will be co
 nducted in a hybrid format (Zoom and in-person).&nbsp\;If you are attendin
 g via Zoom\,&nbsp\;you will need to register for this in advance. <em>Regi
 stration link will be provided accordingly.</em>&nbsp\;</p>\n<p>Reminder: 
 Residents must be logged in to the website to view meeting links and other
  information.&nbsp\;</p>
END:VEVENT
END:VCALENDAR
