BEGIN:VCALENDAR
VERSION:2.0
PRODID:-//https://www.cameronstation.org//NONSGML kigkonsult.se iCalcreator 2.41.71//
CALSCALE:GREGORIAN
METHOD:PUBLISH
UID:33303464-6632-4436-b961-633832613234
X-WR-CALNAME:JCal Pro Calendar
X-WR-CALDESC:Your online events calendar
X-WR-TIMEZONE:America/New_York
BEGIN:VTIMEZONE
TZID:America/New_York
TZUNTIL:20271107T060000Z
BEGIN:STANDARD
TZNAME:EST
DTSTART:20251102T020000
TZOFFSETFROM:-0400
TZOFFSETTO:-0500
RDATE:20261101T020000
END:STANDARD
BEGIN:DAYLIGHT
TZNAME:EDT
DTSTART:20260308T020000
TZOFFSETFROM:-0500
TZOFFSETTO:-0400
RDATE:20270314T020000
END:DAYLIGHT
END:VTIMEZONE
BEGIN:VEVENT
UID:20240418T190000UTC-0135w7oA9R@https://cameronstation.org/
DTSTAMP:20260425T101916Z
CATEGORIES:Board & Committee Meetings
DESCRIPTION:<p><span style='font-size: 12pt\;'>The AdHoc Paving Committee&n
 bsp\;has engaged the services of an engineering firm to review the scope o
 f work for paving the private Cameron Station streets\, and the proposals 
 submitted\, and to provide project oversight.<strong>&nbsp\;The next meeti
 ng is scheduled for Thursday\, April 18\, 2024\, at 7:00 pm\, via Zoom.&nb
 sp\;</strong> <span style='text-decoration: underline\;'><a href='https://
 www.cameronstation.org/resident-services/board-committees/adhoc-paving-com
 mittee'>Click here</a></span> for more information.&nbsp\;</span></p>
DTSTART;TZID=America/New_York:20240418T190000
DTEND;TZID=America/New_York:20240418T200000
SUMMARY:AdHoc Committee Meeting
URL:https://www.cameronstation.org/calendar/68-csca-event-calendar/74-commi
 ttee-meetings/7029-adhoc-committee-meeting
X-ALT-DESC;FMTTYPE=TEXT/HTML:<p><span style='font-size: 12pt\;'>The AdHoc P
 aving Committee&nbsp\;has engaged the services of an engineering firm to r
 eview the scope of work for paving the private Cameron Station streets\, a
 nd the proposals submitted\, and to provide project oversight.<strong>&nbs
 p\;The next meeting is scheduled for Thursday\, April 18\, 2024\, at 7:00 
 pm\, via Zoom.&nbsp\;</strong> <span style='text-decoration: underline\;'>
 <a href='https://www.cameronstation.org/resident-services/board-committees
 /adhoc-paving-committee'>Click here</a></span> for more information.&nbsp\
 ;</span></p>
END:VEVENT
END:VCALENDAR
