BEGIN:VCALENDAR
VERSION:2.0
PRODID:-//https://www.cameronstation.org//NONSGML kigkonsult.se iCalcreator 2.41.71//
CALSCALE:GREGORIAN
METHOD:PUBLISH
UID:32343538-3833-4739-a662-376535383736
X-WR-CALNAME:JCal Pro Calendar
X-WR-CALDESC:Your online events calendar
X-WR-TIMEZONE:America/New_York
BEGIN:VTIMEZONE
TZID:America/New_York
TZUNTIL:20271107T060000Z
BEGIN:STANDARD
TZNAME:EST
DTSTART:20251102T020000
TZOFFSETFROM:-0400
TZOFFSETTO:-0500
RDATE:20261101T020000
END:STANDARD
BEGIN:DAYLIGHT
TZNAME:EDT
DTSTART:20260308T020000
TZOFFSETFROM:-0500
TZOFFSETTO:-0400
RDATE:20270314T020000
END:DAYLIGHT
END:VTIMEZONE
BEGIN:VEVENT
UID:20240108T190000EST-0361WWeRrC@https://cameronstation.org/
DTSTAMP:20260425T010659Z
CATEGORIES:Board & Committee Meetings
DESCRIPTION:<p>The Common Area Committee typically meets the&nbsp\;second M
 onday&nbsp\;of each month at 7:00pm\, via virtual conference.&nbsp\;&nbsp\
 ;&nbsp\;The next meeting has been rescheduled to Tuesday\, October 15\, 20
 24\, at 7:00 pm.&nbsp\;<span>Please click&nbsp\;</span><a href='resident-s
 ervices/board-committees/common-area-committee'>here</a><span>&nbsp\;for m
 eeting information.</span></p>
DTSTART;TZID=America/New_York:20241015T190000
DTEND;TZID=America/New_York:20241015T200000
SUMMARY:Rescheduled - Common Area Committee Meeting
URL:https://www.cameronstation.org/calendar/68-csca-event-calendar/74-commi
 ttee-meetings/6570-common-area-committee-meeting
X-ALT-DESC;FMTTYPE=TEXT/HTML:<p>The Common Area Committee typically meets t
 he&nbsp\;second Monday&nbsp\;of each month at 7:00pm\, via virtual confere
 nce.&nbsp\;&nbsp\;&nbsp\;The next meeting has been rescheduled to Tuesday\
 , October 15\, 2024\, at 7:00 pm.&nbsp\;<span>Please click&nbsp\;</span><a
  href='resident-services/board-committees/common-area-committee'>here</a><
 span>&nbsp\;for meeting information.</span></p>
END:VEVENT
END:VCALENDAR
