BEGIN:VCALENDAR
VERSION:2.0
PRODID:-//https://www.cameronstation.org//NONSGML kigkonsult.se iCalcreator 2.41.71//
CALSCALE:GREGORIAN
METHOD:PUBLISH
UID:66623339-6263-4264-b562-616132396633
X-WR-CALNAME:JCal Pro Calendar
X-WR-CALDESC:Your online events calendar
X-WR-TIMEZONE:America/New_York
BEGIN:VTIMEZONE
TZID:America/New_York
TZUNTIL:20271107T060000Z
BEGIN:STANDARD
TZNAME:EST
DTSTART:20251102T020000
TZOFFSETFROM:-0400
TZOFFSETTO:-0500
RDATE:20261101T020000
END:STANDARD
BEGIN:DAYLIGHT
TZNAME:EDT
DTSTART:20260308T020000
TZOFFSETFROM:-0500
TZOFFSETTO:-0400
RDATE:20270314T020000
END:DAYLIGHT
END:VTIMEZONE
BEGIN:VEVENT
UID:20240123T180000EST-9234LfuIhb@https://cameronstation.org/
DTSTAMP:20260425T200218Z
CATEGORIES:Board & Committee Meetings
DESCRIPTION:<p>The Newsletter Subcommittee typically meets every two months
  to discuss the upcoming issue of&nbsp\;<em>The Compass</em>\, via virtual
  conference.&nbsp\;<strong>The next meeting is Tuesday\, January 23\, 2024
 \, at 6:00 pm\,&nbsp\;</strong>in hybrid format via Zoom and in person in 
 the Henderson Room on the 2nd Floor of the Cameron Club building. <a href=
 'our-neighborhood/board-committees/communications-committee/newsletter-sub
 committee'>Click here</a> for more information.&nbsp\;</p>
DTSTART;TZID=America/New_York:20240123T180000
DTEND;TZID=America/New_York:20240123T180000
SUMMARY:Newsletter Subcommittee Meeting
URL:https://www.cameronstation.org/calendar/68-csca-event-calendar/74-commi
 ttee-meetings/6549-newsletter-subcommittee-meeting
X-ALT-DESC;FMTTYPE=TEXT/HTML:<p>The Newsletter Subcommittee typically meets
  every two months to discuss the upcoming issue of&nbsp\;<em>The Compass</
 em>\, via virtual conference.&nbsp\;<strong>The next meeting is Tuesday\, 
 January 23\, 2024\, at 6:00 pm\,&nbsp\;</strong>in hybrid format via Zoom 
 and in person in the Henderson Room on the 2nd Floor of the Cameron Club b
 uilding. <a href='our-neighborhood/board-committees/communications-committ
 ee/newsletter-subcommittee'>Click here</a> for more information.&nbsp\;</p
 >
END:VEVENT
END:VCALENDAR
