BEGIN:VCALENDAR
VERSION:2.0
PRODID:-//https://www.cameronstation.org//NONSGML kigkonsult.se iCalcreator 2.41.71//
CALSCALE:GREGORIAN
METHOD:PUBLISH
UID:62363464-6163-4233-a363-633138636336
X-WR-CALNAME:JCal Pro Calendar
X-WR-CALDESC:Your online events calendar
X-WR-TIMEZONE:America/New_York
BEGIN:VTIMEZONE
TZID:America/New_York
TZUNTIL:20271107T060000Z
BEGIN:STANDARD
TZNAME:EST
DTSTART:20251102T020000
TZOFFSETFROM:-0400
TZOFFSETTO:-0500
RDATE:20261101T020000
END:STANDARD
BEGIN:DAYLIGHT
TZNAME:EDT
DTSTART:20260308T020000
TZOFFSETFROM:-0500
TZOFFSETTO:-0400
RDATE:20270314T020000
END:DAYLIGHT
END:VTIMEZONE
BEGIN:VEVENT
UID:20231026T140000EDT-6315rVvHIx@https://cameronstation.org/
DTSTAMP:20260426T010957Z
CATEGORIES:Board & Committee Meetings
DESCRIPTION:<p>The AdHoc Paving Committee will meet on Thursday\, October 2
 6\, 2023\, at 2:000 pm.&nbsp\;<a href='our-neighborhood/board-committees/a
 dhoc-paving-committee' target='_blank' rel='noopener' data-link-type='web'
 >Click here</a>&nbsp\;for more information.</p>
DTSTART;TZID=America/New_York:20231026T140000
DTEND;TZID=America/New_York:20231026T150000
SUMMARY:AdHoc Paving Committee Meeting
URL:https://www.cameronstation.org/calendar/68-csca-event-calendar/74-commi
 ttee-meetings/6210-adhoc-paving-committee-meeting
X-ALT-DESC;FMTTYPE=TEXT/HTML:<p>The AdHoc Paving Committee will meet on Thu
 rsday\, October 26\, 2023\, at 2:000 pm.&nbsp\;<a href='our-neighborhood/b
 oard-committees/adhoc-paving-committee' target='_blank' rel='noopener' dat
 a-link-type='web'>Click here</a>&nbsp\;for more information.</p>
END:VEVENT
END:VCALENDAR
