BEGIN:VCALENDAR
VERSION:2.0
PRODID:-//https://www.cameronstation.org//NONSGML kigkonsult.se iCalcreator 2.41.71//
CALSCALE:GREGORIAN
METHOD:PUBLISH
UID:61626332-3736-4933-b933-323039633765
X-WR-CALNAME:JCal Pro Calendar
X-WR-CALDESC:Your online events calendar
X-WR-TIMEZONE:America/New_York
BEGIN:VTIMEZONE
TZID:America/New_York
TZUNTIL:20271107T060000Z
BEGIN:STANDARD
TZNAME:EST
DTSTART:20251102T020000
TZOFFSETFROM:-0400
TZOFFSETTO:-0500
RDATE:20261101T020000
END:STANDARD
BEGIN:DAYLIGHT
TZNAME:EDT
DTSTART:20260308T020000
TZOFFSETFROM:-0500
TZOFFSETTO:-0400
RDATE:20270314T020000
END:DAYLIGHT
END:VTIMEZONE
BEGIN:VEVENT
UID:20230104T190000EST-8165ezw1Lt@https://cameronstation.org/
DTSTAMP:20260426T010956Z
CATEGORIES:Board & Committee Meetings
DESCRIPTION:<p>The Activities &amp\; Events Planning Committee meetings are
  typically held on the first Wednesday of each month\, via virtual confere
 nce. <strong>This meeting has been rescheduled to Thursday\, October 5\, 2
 023.</strong> Please click&nbsp\;<a href='our-neighborhood/board-committee
 s/activities-events-planning-committee'>here</a>&nbsp\;for meeting informa
 tion.</p>
DTSTART;TZID=America/New_York:20231005T194000
DTEND;TZID=America/New_York:20231005T204000
SUMMARY:Activities & Events Planning Committee Meeting
URL:https://www.cameronstation.org/calendar/68-csca-event-calendar/74-commi
 ttee-meetings/5602-activities-events-planning-committee-meeting
X-ALT-DESC;FMTTYPE=TEXT/HTML:<p>The Activities &amp\; Events Planning Commi
 ttee meetings are typically held on the first Wednesday of each month\, vi
 a virtual conference. <strong>This meeting has been rescheduled to Thursda
 y\, October 5\, 2023.</strong> Please click&nbsp\;<a href='our-neighborhoo
 d/board-committees/activities-events-planning-committee'>here</a>&nbsp\;fo
 r meeting information.</p>
END:VEVENT
END:VCALENDAR
