BEGIN:VCALENDAR
VERSION:2.0
PRODID:-//https://www.cameronstation.org//NONSGML kigkonsult.se iCalcreator 2.41.71//
CALSCALE:GREGORIAN
METHOD:PUBLISH
UID:32343961-3038-4432-a531-303138356437
X-WR-CALNAME:JCal Pro Calendar
X-WR-CALDESC:Your online events calendar
X-WR-TIMEZONE:America/New_York
BEGIN:VTIMEZONE
TZID:America/New_York
TZUNTIL:20271107T060000Z
BEGIN:STANDARD
TZNAME:EST
DTSTART:20251102T020000
TZOFFSETFROM:-0400
TZOFFSETTO:-0500
RDATE:20261101T020000
END:STANDARD
BEGIN:DAYLIGHT
TZNAME:EDT
DTSTART:20260308T020000
TZOFFSETFROM:-0500
TZOFFSETTO:-0400
RDATE:20270314T020000
END:DAYLIGHT
END:VTIMEZONE
BEGIN:VEVENT
UID:20240110T190000EST-91082VG8V7@https://cameronstation.org/
DTSTAMP:20260423T195539Z
CATEGORIES:Board & Committee Meetings
DESCRIPTION:<p>The Communications Committee meets the second Tuesday of the
  month at 7:30 pm\, via in-person and virtual conference. <strong>This mee
 ting has been rescheduled to Tuesday\, March 3\, 2026.</strong> Please&nbs
 p\;<span style='text-decoration: underline\;'><a href='our-neighborhood/bo
 ard-committees/communications-committee'>click&nbsp\;here</a></span><a hre
 f='our-neighborhood/board-committees/communications-committee'></a>&nbsp\;
 for meeting information.</p>
DTSTART;TZID=America/New_York:20260303T193000
DTEND;TZID=America/New_York:20260303T203000
SUMMARY:Communications Committee Meeting - Rescheduled
URL:https://www.cameronstation.org/calendar/68-csca-event-calendar/74-commi
 ttee-meetings/10189-communications-committee-meeting
X-ALT-DESC;FMTTYPE=TEXT/HTML:<p>The Communications Committee meets the seco
 nd Tuesday of the month at 7:30 pm\, via in-person and virtual conference.
  <strong>This meeting has been rescheduled to Tuesday\, March 3\, 2026.</s
 trong> Please&nbsp\;<span style='text-decoration: underline\;'><a href='ou
 r-neighborhood/board-committees/communications-committee'>click&nbsp\;here
 </a></span><a href='our-neighborhood/board-committees/communications-commi
 ttee'></a>&nbsp\;for meeting information.</p>
END:VEVENT
END:VCALENDAR
