BEGIN:VCALENDAR
VERSION:2.0
PRODID:-//https://www.cameronstation.org//NONSGML kigkonsult.se iCalcreator 2.41.71//
CALSCALE:GREGORIAN
METHOD:PUBLISH
UID:61376635-3530-4661-b339-363565643664
X-WR-CALNAME:JCal Pro Calendar
X-WR-CALDESC:Your online events calendar
X-WR-TIMEZONE:America/New_York
BEGIN:VTIMEZONE
TZID:America/New_York
TZUNTIL:20271107T060000Z
BEGIN:STANDARD
TZNAME:EST
DTSTART:20251102T020000
TZOFFSETFROM:-0400
TZOFFSETTO:-0500
RDATE:20261101T020000
END:STANDARD
BEGIN:DAYLIGHT
TZNAME:EDT
DTSTART:20260308T020000
TZOFFSETFROM:-0500
TZOFFSETTO:-0400
RDATE:20270314T020000
END:DAYLIGHT
END:VTIMEZONE
BEGIN:VEVENT
UID:20250922T180000UTC-3635ulHvcp@https://cameronstation.org/
DTSTAMP:20260424T071526Z
CATEGORIES:Civic Association
DESCRIPTION:<p>The Civic Association will host a Meet and Greet with mayor 
 Aliyah Gaskins and Alexandria City Council members\, at 6:00 pm in the Vic
 toria Hebert Great room. All are welcome!&nbsp\;</p>
DTSTART;TZID=America/New_York:20250922T180000
DTEND;TZID=America/New_York:20250922T203000
SUMMARY:Meet the Mayor & Alexandria City Council
URL:https://www.cameronstation.org/calendar/68-csca-event-calendar/73-civic
 -association/9164-meet-and-greet-with-mayor-gaskins-alexandria-city-counci
 l
X-ALT-DESC;FMTTYPE=TEXT/HTML:<p>The Civic Association will host a Meet and 
 Greet with mayor Aliyah Gaskins and Alexandria City Council members\, at 6
 :00 pm in the Victoria Hebert Great room. All are welcome!&nbsp\;</p>
END:VEVENT
END:VCALENDAR
