BEGIN:VCALENDAR
VERSION:2.0
PRODID:-//https://www.cameronstation.org//NONSGML kigkonsult.se iCalcreator 2.41.71//
CALSCALE:GREGORIAN
METHOD:PUBLISH
UID:39303935-6562-4131-b338-363462326135
X-WR-CALNAME:JCal Pro Calendar
X-WR-CALDESC:Your online events calendar
X-WR-TIMEZONE:America/New_York
BEGIN:VTIMEZONE
TZID:America/New_York
TZUNTIL:20271107T060000Z
BEGIN:STANDARD
TZNAME:EST
DTSTART:20251102T020000
TZOFFSETFROM:-0400
TZOFFSETTO:-0500
RDATE:20261101T020000
END:STANDARD
BEGIN:DAYLIGHT
TZNAME:EDT
DTSTART:20260308T020000
TZOFFSETFROM:-0500
TZOFFSETTO:-0400
RDATE:20270314T020000
END:DAYLIGHT
END:VTIMEZONE
BEGIN:VEVENT
UID:20240207T190000EST-6674cGx532@https://cameronstation.org/
DTSTAMP:20260425T132000Z
CATEGORIES:Civic Association
DESCRIPTION:<p>The next Cameron Station Civic Association Membership Meetin
 g (via Zoom) is Wednesday\, February 7\, 2024\, at 7:00 pm. <a href='our-n
 eighborhood/civic-association'>Click here</a> for more infromation.&nbsp\;
 </p>
DTSTART;TZID=America/New_York:20240207T190000
DTEND;TZID=America/New_York:20240207T200000
SUMMARY:Cameron Station Civic Association Membership Meeting
URL:https://www.cameronstation.org/calendar/68-csca-event-calendar/73-civic
 -association/6550-cameron-station-civic-association-membership-meeting
X-ALT-DESC;FMTTYPE=TEXT/HTML:<p>The next Cameron Station Civic Association 
 Membership Meeting (via Zoom) is Wednesday\, February 7\, 2024\, at 7:00 p
 m. <a href='our-neighborhood/civic-association'>Click here</a> for more in
 fromation.&nbsp\;</p>
END:VEVENT
END:VCALENDAR
